BEGIN:VCALENDAR
VERSION:2.0
PRODID:-//HyproPullers - ECPv6.15.11//NONSGML v1.0//EN
CALSCALE:GREGORIAN
METHOD:PUBLISH
X-WR-CALNAME:HyproPullers
X-ORIGINAL-URL:https://hypropullers.com
X-WR-CALDESC:Evenementen voor HyproPullers
REFRESH-INTERVAL;VALUE=DURATION:PT1H
X-Robots-Tag:noindex
X-PUBLISHED-TTL:PT1H
BEGIN:VTIMEZONE
TZID:Europe/Helsinki
BEGIN:DAYLIGHT
TZOFFSETFROM:+0200
TZOFFSETTO:+0300
TZNAME:EEST
DTSTART:20250330T010000
END:DAYLIGHT
BEGIN:STANDARD
TZOFFSETFROM:+0300
TZOFFSETTO:+0200
TZNAME:EET
DTSTART:20251026T010000
END:STANDARD
BEGIN:DAYLIGHT
TZOFFSETFROM:+0200
TZOFFSETTO:+0300
TZNAME:EEST
DTSTART:20260329T010000
END:DAYLIGHT
BEGIN:STANDARD
TZOFFSETFROM:+0300
TZOFFSETTO:+0200
TZNAME:EET
DTSTART:20261025T010000
END:STANDARD
BEGIN:DAYLIGHT
TZOFFSETFROM:+0200
TZOFFSETTO:+0300
TZNAME:EEST
DTSTART:20270328T010000
END:DAYLIGHT
BEGIN:STANDARD
TZOFFSETFROM:+0300
TZOFFSETTO:+0200
TZNAME:EET
DTSTART:20271031T010000
END:STANDARD
END:VTIMEZONE
BEGIN:VEVENT
DTSTART;TZID=Europe/Helsinki:20260809T130000
DTEND;TZID=Europe/Helsinki:20260809T180000
DTSTAMP:20260422T030109
CREATED:20260114T151215Z
LAST-MODIFIED:20260114T151215Z
UID:5832-1786280400-1786298400@hypropullers.com
SUMMARY:Trekkertrek Zevendonk
DESCRIPTION:
URL:https://hypropullers.com/event/trekkertrek-zevendonk/
LOCATION:Zevendonk\, Winkel 126\, Turnhout
END:VEVENT
BEGIN:VEVENT
DTSTART;TZID=Europe/Helsinki:20260816T130000
DTEND;TZID=Europe/Helsinki:20260816T180000
DTSTAMP:20260422T030109
CREATED:20260114T151254Z
LAST-MODIFIED:20260114T151254Z
UID:5835-1786885200-1786903200@hypropullers.com
SUMMARY:Trekkertrek Wouw
DESCRIPTION:
URL:https://hypropullers.com/event/trekkertrek-wouw/
LOCATION:Wouw\, Westerlaarsestraat 61\, Wouwse Plantage\, 4725SC\, Nederland
END:VEVENT
BEGIN:VEVENT
DTSTART;TZID=Europe/Helsinki:20260829T140000
DTEND;TZID=Europe/Helsinki:20260829T180000
DTSTAMP:20260422T030109
CREATED:20260114T151347Z
LAST-MODIFIED:20260114T151843Z
UID:5837-1788012000-1788026400@hypropullers.com
SUMMARY:Trekkertrek 's - Heer Abtskerke
DESCRIPTION:
URL:https://hypropullers.com/event/trekkertrek-s-heer-abtskerke-3/
LOCATION:`s-Heer Abtskerke\, Kloetingseweg 13\, `s-Heer Abtskerke\, 4444 AC
END:VEVENT
END:VCALENDAR