BEGIN:VCALENDAR
VERSION:2.0
PRODID:-//HyproPullers - ECPv6.15.11//NONSGML v1.0//EN
CALSCALE:GREGORIAN
METHOD:PUBLISH
X-ORIGINAL-URL:https://hypropullers.com
X-WR-CALDESC:Evenementen voor HyproPullers
REFRESH-INTERVAL;VALUE=DURATION:PT1H
X-Robots-Tag:noindex
X-PUBLISHED-TTL:PT1H
BEGIN:VTIMEZONE
TZID:Europe/Helsinki
BEGIN:DAYLIGHT
TZOFFSETFROM:+0200
TZOFFSETTO:+0300
TZNAME:EEST
DTSTART:20240331T010000
END:DAYLIGHT
BEGIN:STANDARD
TZOFFSETFROM:+0300
TZOFFSETTO:+0200
TZNAME:EET
DTSTART:20241027T010000
END:STANDARD
BEGIN:DAYLIGHT
TZOFFSETFROM:+0200
TZOFFSETTO:+0300
TZNAME:EEST
DTSTART:20250330T010000
END:DAYLIGHT
BEGIN:STANDARD
TZOFFSETFROM:+0300
TZOFFSETTO:+0200
TZNAME:EET
DTSTART:20251026T010000
END:STANDARD
BEGIN:DAYLIGHT
TZOFFSETFROM:+0200
TZOFFSETTO:+0300
TZNAME:EEST
DTSTART:20260329T010000
END:DAYLIGHT
BEGIN:STANDARD
TZOFFSETFROM:+0300
TZOFFSETTO:+0200
TZNAME:EET
DTSTART:20261025T010000
END:STANDARD
END:VTIMEZONE
BEGIN:VEVENT
DTSTART;TZID=Europe/Helsinki:20250906T120000
DTEND;TZID=Europe/Helsinki:20250906T180000
DTSTAMP:20260422T081134
CREATED:20250120T181902Z
LAST-MODIFIED:20250120T181902Z
UID:3423-1757160000-1757181600@hypropullers.com
SUMMARY:SLF  Streekdagen Meeuwen
DESCRIPTION:
URL:https://hypropullers.com/event/slf-streekdagen-meeuwen/
LOCATION:Meeuwen\, Dorpsstraat 2\, Meeuwen\, 4268 GJ\, Nederland
CATEGORIES:Hypropullers Competitie
END:VEVENT
BEGIN:VEVENT
DTSTART;TZID=Europe/Helsinki:20250921T140000
DTEND;TZID=Europe/Helsinki:20250921T180000
DTSTAMP:20260422T081134
CREATED:20250120T181959Z
LAST-MODIFIED:20250120T181959Z
UID:3425-1758463200-1758477600@hypropullers.com
SUMMARY:KPJ Bavel
DESCRIPTION:
URL:https://hypropullers.com/event/kpj-bavel-2/
LOCATION:Bavel\, Veenstraat\, Bavel\, 4854 PH\, Nederland
CATEGORIES:Hypropullers Competitie
END:VEVENT
BEGIN:VEVENT
DTSTART;TZID=Europe/Helsinki:20250928T140000
DTEND;TZID=Europe/Helsinki:20250928T180000
DTSTAMP:20260422T081134
CREATED:20250120T182103Z
LAST-MODIFIED:20250414T164626Z
UID:3427-1759068000-1759082400@hypropullers.com
SUMMARY:Powerpulling Zundert
DESCRIPTION:
URL:https://hypropullers.com/event/powerpulling-zundert-2/
LOCATION:Zundert\, Stuivezandseweg 57\, Zundert\, Noord Brabant\, 4882 NG\, Nederland
CATEGORIES:Hypropullers Competitie
END:VEVENT
END:VCALENDAR