BEGIN:VCALENDAR
VERSION:2.0
PRODID:-//HyproPullers - ECPv6.15.11//NONSGML v1.0//EN
CALSCALE:GREGORIAN
METHOD:PUBLISH
X-WR-CALNAME:HyproPullers
X-ORIGINAL-URL:https://hypropullers.com
X-WR-CALDESC:Evenementen voor HyproPullers
REFRESH-INTERVAL;VALUE=DURATION:PT1H
X-Robots-Tag:noindex
X-PUBLISHED-TTL:PT1H
BEGIN:VTIMEZONE
TZID:Europe/Helsinki
BEGIN:DAYLIGHT
TZOFFSETFROM:+0200
TZOFFSETTO:+0300
TZNAME:EEST
DTSTART:20190331T010000
END:DAYLIGHT
BEGIN:STANDARD
TZOFFSETFROM:+0300
TZOFFSETTO:+0200
TZNAME:EET
DTSTART:20191027T010000
END:STANDARD
BEGIN:DAYLIGHT
TZOFFSETFROM:+0200
TZOFFSETTO:+0300
TZNAME:EEST
DTSTART:20200329T010000
END:DAYLIGHT
BEGIN:STANDARD
TZOFFSETFROM:+0300
TZOFFSETTO:+0200
TZNAME:EET
DTSTART:20201025T010000
END:STANDARD
BEGIN:DAYLIGHT
TZOFFSETFROM:+0200
TZOFFSETTO:+0300
TZNAME:EEST
DTSTART:20210328T010000
END:DAYLIGHT
BEGIN:STANDARD
TZOFFSETFROM:+0300
TZOFFSETTO:+0200
TZNAME:EET
DTSTART:20211031T010000
END:STANDARD
END:VTIMEZONE
BEGIN:VEVENT
DTSTART;TZID=Europe/Helsinki:20200517T120000
DTEND;TZID=Europe/Helsinki:20200517T170000
DTSTAMP:20260423T011748
CREATED:20200201T184816Z
LAST-MODIFIED:20200505T071814Z
UID:248-1589716800-1589734800@hypropullers.com
SUMMARY:Gecanceld Oosteind 2020
DESCRIPTION:
URL:https://hypropullers.com/event/competitie-oosteind-2020/
LOCATION:Oosteind\, Berkenstraat 41\, Oosteind\, 4909 BG\, Nederland
CATEGORIES:Hypropullers Competitie
END:VEVENT
BEGIN:VEVENT
DTSTART;TZID=Europe/Helsinki:20200427T120000
DTEND;TZID=Europe/Helsinki:20200427T170000
DTSTAMP:20260423T011748
CREATED:20200201T184935Z
LAST-MODIFIED:20200505T072137Z
UID:251-1587988800-1588006800@hypropullers.com
SUMMARY:Gecanceld Culemborg 2020
DESCRIPTION:
URL:https://hypropullers.com/event/dagwedstrijd-culemborg-2020/
LOCATION:Culemborg\, Wethouder Schoutenweg 6\, Culemborg\, 4105 LH\, Nederland
CATEGORIES:Dagwedstrijd
ORGANIZER;CN="Wijkvereniging 't Veld":MAILTO:trekkertrek@wijkverenigingtveld.nl
END:VEVENT
BEGIN:VEVENT
DTSTART;TZID=Europe/Helsinki:20200426T130000
DTEND;TZID=Europe/Helsinki:20200426T170000
DTSTAMP:20260423T011748
CREATED:20200201T184417Z
LAST-MODIFIED:20200505T072112Z
UID:245-1587906000-1587920400@hypropullers.com
SUMMARY:Gecanceld Achtmaal 2020
DESCRIPTION:
URL:https://hypropullers.com/event/competitie-achtmaal-2020/
LOCATION:Achtmaal\, Achtmaalseweg 143\, Achtmaal\, 4885 AW\, Nederland
CATEGORIES:Hypropullers Competitie
ORGANIZER;CN="Achtmaalse Pullers":MAILTO:info@achtmaalsepullers.nl
END:VEVENT
BEGIN:VEVENT
DTSTART;TZID=Europe/Helsinki:20200419T120000
DTEND;TZID=Europe/Helsinki:20200419T170000
DTSTAMP:20260423T011748
CREATED:20200201T184306Z
LAST-MODIFIED:20200505T072020Z
UID:241-1587297600-1587315600@hypropullers.com
SUMMARY:Gecanceld Schijf 2020
DESCRIPTION:
URL:https://hypropullers.com/event/competitie-schijf-2020/
LOCATION:Schijf\, Antwerpsebaan\, Schijf\, 4721 SL\, Nederland
CATEGORIES:Hypropullers Competitie
END:VEVENT
BEGIN:VEVENT
DTSTART;TZID=Europe/Helsinki:20200202T150000
DTEND;TZID=Europe/Helsinki:20200202T170000
DTSTAMP:20260423T011748
CREATED:20200201T134805Z
LAST-MODIFIED:20200303T113541Z
UID:108-1580655600-1580662800@hypropullers.com
SUMMARY:Inschrijfmiddag voor de Hypropullers competitie
DESCRIPTION:Zoals eerder aangekondigd is aanstaande zondag 2 februari de inschrijfmiddag voor de Hypropullers competitie.\nLocatie: Stal het Sander\nSander 13\, Etten-Leur. \nInloop 14:00 uur\, start vergadering 14:30 uur. \n\nDe deelnemers van 2019 hebben een inschrijfformulier ontvangen. \nWil jij ook competitie komen rijden of ken je iemand stuur dan een mail naar info@hypropullers.nl en je ontvangt ook een inschrijfformulier. \nTot zondag. \nMet vriendelijke groet Richard de Vries\nStichting de Hypropullers
URL:https://hypropullers.com/event/inschrijfmiddag-voor-de-hypropullers-competitie/
LOCATION:Stal het Sander\, Sander 13\, Etten-Leur.\, Nederland
END:VEVENT
END:VCALENDAR