BEGIN:VCALENDAR
VERSION:2.0
PRODID:-//HyproPullers - ECPv6.15.11//NONSGML v1.0//EN
CALSCALE:GREGORIAN
METHOD:PUBLISH
X-WR-CALNAME:HyproPullers
X-ORIGINAL-URL:https://hypropullers.com
X-WR-CALDESC:Evenementen voor HyproPullers
REFRESH-INTERVAL;VALUE=DURATION:PT1H
X-Robots-Tag:noindex
X-PUBLISHED-TTL:PT1H
BEGIN:VTIMEZONE
TZID:Europe/Helsinki
BEGIN:DAYLIGHT
TZOFFSETFROM:+0200
TZOFFSETTO:+0300
TZNAME:EEST
DTSTART:20190331T010000
END:DAYLIGHT
BEGIN:STANDARD
TZOFFSETFROM:+0300
TZOFFSETTO:+0200
TZNAME:EET
DTSTART:20191027T010000
END:STANDARD
BEGIN:DAYLIGHT
TZOFFSETFROM:+0200
TZOFFSETTO:+0300
TZNAME:EEST
DTSTART:20200329T010000
END:DAYLIGHT
BEGIN:STANDARD
TZOFFSETFROM:+0300
TZOFFSETTO:+0200
TZNAME:EET
DTSTART:20201025T010000
END:STANDARD
BEGIN:DAYLIGHT
TZOFFSETFROM:+0200
TZOFFSETTO:+0300
TZNAME:EEST
DTSTART:20210328T010000
END:DAYLIGHT
BEGIN:STANDARD
TZOFFSETFROM:+0300
TZOFFSETTO:+0200
TZNAME:EET
DTSTART:20211031T010000
END:STANDARD
END:VTIMEZONE
BEGIN:VEVENT
DTSTART;TZID=Europe/Helsinki:20200830T100000
DTEND;TZID=Europe/Helsinki:20200830T170000
DTSTAMP:20260423T014802
CREATED:20200303T151358Z
LAST-MODIFIED:20200505T072751Z
UID:391-1598781600-1598806800@hypropullers.com
SUMMARY:Gecanceld Ossendrecht 2020
DESCRIPTION:
URL:https://hypropullers.com/event/competitie-ossendrecht/
LOCATION:Ossendrecht\, Hinkelenoordweg\, Ossendrecht\, Nederland
CATEGORIES:Hypropullers Competitie
END:VEVENT
BEGIN:VEVENT
DTSTART;TZID=Europe/Helsinki:20200829T120000
DTEND;TZID=Europe/Helsinki:20200829T170000
DTSTAMP:20260423T014802
CREATED:20200303T151046Z
LAST-MODIFIED:20200505T072531Z
UID:387-1598702400-1598720400@hypropullers.com
SUMMARY:Gecanceld `s-Heer Abtskerke 2020
DESCRIPTION:
URL:https://hypropullers.com/event/competitie-s-heer-abtskerke/
LOCATION:`s-Heer Abtskerke\, Kloetingseweg 13\, `s-Heer Abtskerke\, 4444 AC
CATEGORIES:Hypropullers Competitie
END:VEVENT
BEGIN:VEVENT
DTSTART;TZID=Europe/Helsinki:20200815T160000
DTEND;TZID=Europe/Helsinki:20200815T230000
DTSTAMP:20260423T014802
CREATED:20200303T140424Z
LAST-MODIFIED:20200505T072725Z
UID:383-1597507200-1597532400@hypropullers.com
SUMMARY:Gecanceld  Wouw 2020
DESCRIPTION:
URL:https://hypropullers.com/event/competitie-wouw/
LOCATION:Wouw\, Westerlaarsestraat 61\, Wouwse Plantage\, 4725SC\, Nederland
CATEGORIES:Hypropullers Competitie
END:VEVENT
BEGIN:VEVENT
DTSTART;TZID=Europe/Helsinki:20200808T150000
DTEND;TZID=Europe/Helsinki:20200808T190000
DTSTAMP:20260423T014802
CREATED:20200303T135936Z
LAST-MODIFIED:20200505T072412Z
UID:379-1596898800-1596913200@hypropullers.com
SUMMARY:Gecanceld Oudenbosch 2020
DESCRIPTION:
URL:https://hypropullers.com/event/competitie-oudenbosch-2020/
LOCATION:Oudenbosch\, Langeweg\, Oudenbosch\, 4731 TS
CATEGORIES:Hypropullers Competitie
END:VEVENT
BEGIN:VEVENT
DTSTART;TZID=Europe/Helsinki:20200726T120000
DTEND;TZID=Europe/Helsinki:20200726T170000
DTSTAMP:20260423T014802
CREATED:20200303T152743Z
LAST-MODIFIED:20200505T072703Z
UID:402-1595764800-1595782800@hypropullers.com
SUMMARY:Gecanceld Essen (B) 2020
DESCRIPTION:
URL:https://hypropullers.com/event/essen-b/
LOCATION:Essen-Kamthout\, Essen-Kalmthout
CATEGORIES:Dagwedstrijd
END:VEVENT
BEGIN:VEVENT
DTSTART;TZID=Europe/Helsinki:20200719T140000
DTEND;TZID=Europe/Helsinki:20200719T170000
DTSTAMP:20260423T014802
CREATED:20200303T135414Z
LAST-MODIFIED:20200505T072640Z
UID:375-1595167200-1595178000@hypropullers.com
SUMMARY:Gecanceld  Merksplas (B) 2020
DESCRIPTION:
URL:https://hypropullers.com/event/competitie-merksplas-b/
LOCATION:Merksplas\, Koekhoven\, Merksplas\, 2330
CATEGORIES:Hypropullers Competitie
END:VEVENT
BEGIN:VEVENT
DTSTART;VALUE=DATE:20200712
DTEND;VALUE=DATE:20200713
DTSTAMP:20260423T014802
CREATED:20200303T135104Z
LAST-MODIFIED:20200505T072559Z
UID:372-1594512000-1594598399@hypropullers.com
SUMMARY:Gecanceld Poppel (B) 2020
DESCRIPTION:
URL:https://hypropullers.com/event/competitie-poppel-b/
LOCATION:Trekkertrek Poppel (B)\, Steenwegweelde 95-A\, Poppel (B)\, 2382\, België
CATEGORIES:Hypropullers Competitie
END:VEVENT
BEGIN:VEVENT
DTSTART;TZID=Europe/Helsinki:20200627T163000
DTEND;TZID=Europe/Helsinki:20200627T213000
DTSTAMP:20260423T014802
CREATED:20200303T112902Z
LAST-MODIFIED:20200505T071937Z
UID:359-1593275400-1593293400@hypropullers.com
SUMMARY:Gecanceld Hoeven 2020
DESCRIPTION:
URL:https://hypropullers.com/event/competitie-hoeven/
LOCATION:Hoeven\, Oude Dijk\, Hoeven\, 4741 RX
CATEGORIES:Hypropullers Competitie
ORGANIZER;CN="Vereniging 't Smidje":MAILTO:tractorpullinghoeven@gmail.com
END:VEVENT
BEGIN:VEVENT
DTSTART;TZID=Europe/Helsinki:20200613T200000
DTEND;TZID=Europe/Helsinki:20200614T000000
DTSTAMP:20260423T014802
CREATED:20200303T112432Z
LAST-MODIFIED:20200505T071857Z
UID:356-1592078400-1592092800@hypropullers.com
SUMMARY:Gecanceld Minderhout (B) 2020
DESCRIPTION:
URL:https://hypropullers.com/event/competitie-minderhout-b/
LOCATION:Minderhout (B)\, Raamloopstraat 11\, Minderhout (B)\, 2321\, België
CATEGORIES:Hypropullers Competitie
END:VEVENT
BEGIN:VEVENT
DTSTART;TZID=Europe/Helsinki:20200606T160000
DTEND;TZID=Europe/Helsinki:20200606T160000
DTSTAMP:20260423T014802
CREATED:20200303T111932Z
LAST-MODIFIED:20200505T071839Z
UID:352-1591459200-1591459200@hypropullers.com
SUMMARY:Gecanceld Moerkapelle 2020
DESCRIPTION:
URL:https://hypropullers.com/event/competitie-moerkapelle/
LOCATION:Moerkapelle\, Herenweg 58\, Moerkapelle\, 2751 DB\, Nederland
CATEGORIES:Hypropullers Competitie
ORGANIZER;CN="Trekkertrekkie Moerkapelle":MAILTO:info@trekkertrekkiemoerkapelle.nl
END:VEVENT
BEGIN:VEVENT
DTSTART;TZID=Europe/Helsinki:20200517T120000
DTEND;TZID=Europe/Helsinki:20200517T170000
DTSTAMP:20260423T014802
CREATED:20200201T184816Z
LAST-MODIFIED:20200505T071814Z
UID:248-1589716800-1589734800@hypropullers.com
SUMMARY:Gecanceld Oosteind 2020
DESCRIPTION:
URL:https://hypropullers.com/event/competitie-oosteind-2020/
LOCATION:Oosteind\, Berkenstraat 41\, Oosteind\, 4909 BG\, Nederland
CATEGORIES:Hypropullers Competitie
END:VEVENT
BEGIN:VEVENT
DTSTART;TZID=Europe/Helsinki:20200427T120000
DTEND;TZID=Europe/Helsinki:20200427T170000
DTSTAMP:20260423T014802
CREATED:20200201T184935Z
LAST-MODIFIED:20200505T072137Z
UID:251-1587988800-1588006800@hypropullers.com
SUMMARY:Gecanceld Culemborg 2020
DESCRIPTION:
URL:https://hypropullers.com/event/dagwedstrijd-culemborg-2020/
LOCATION:Culemborg\, Wethouder Schoutenweg 6\, Culemborg\, 4105 LH\, Nederland
CATEGORIES:Dagwedstrijd
ORGANIZER;CN="Wijkvereniging 't Veld":MAILTO:trekkertrek@wijkverenigingtveld.nl
END:VEVENT
BEGIN:VEVENT
DTSTART;TZID=Europe/Helsinki:20200426T130000
DTEND;TZID=Europe/Helsinki:20200426T170000
DTSTAMP:20260423T014802
CREATED:20200201T184417Z
LAST-MODIFIED:20200505T072112Z
UID:245-1587906000-1587920400@hypropullers.com
SUMMARY:Gecanceld Achtmaal 2020
DESCRIPTION:
URL:https://hypropullers.com/event/competitie-achtmaal-2020/
LOCATION:Achtmaal\, Achtmaalseweg 143\, Achtmaal\, 4885 AW\, Nederland
CATEGORIES:Hypropullers Competitie
ORGANIZER;CN="Achtmaalse Pullers":MAILTO:info@achtmaalsepullers.nl
END:VEVENT
BEGIN:VEVENT
DTSTART;TZID=Europe/Helsinki:20200419T120000
DTEND;TZID=Europe/Helsinki:20200419T170000
DTSTAMP:20260423T014802
CREATED:20200201T184306Z
LAST-MODIFIED:20200505T072020Z
UID:241-1587297600-1587315600@hypropullers.com
SUMMARY:Gecanceld Schijf 2020
DESCRIPTION:
URL:https://hypropullers.com/event/competitie-schijf-2020/
LOCATION:Schijf\, Antwerpsebaan\, Schijf\, 4721 SL\, Nederland
CATEGORIES:Hypropullers Competitie
END:VEVENT
BEGIN:VEVENT
DTSTART;TZID=Europe/Helsinki:20200202T150000
DTEND;TZID=Europe/Helsinki:20200202T170000
DTSTAMP:20260423T014802
CREATED:20200201T134805Z
LAST-MODIFIED:20200303T113541Z
UID:108-1580655600-1580662800@hypropullers.com
SUMMARY:Inschrijfmiddag voor de Hypropullers competitie
DESCRIPTION:Zoals eerder aangekondigd is aanstaande zondag 2 februari de inschrijfmiddag voor de Hypropullers competitie.\nLocatie: Stal het Sander\nSander 13\, Etten-Leur. \nInloop 14:00 uur\, start vergadering 14:30 uur. \n\nDe deelnemers van 2019 hebben een inschrijfformulier ontvangen. \nWil jij ook competitie komen rijden of ken je iemand stuur dan een mail naar info@hypropullers.nl en je ontvangt ook een inschrijfformulier. \nTot zondag. \nMet vriendelijke groet Richard de Vries\nStichting de Hypropullers
URL:https://hypropullers.com/event/inschrijfmiddag-voor-de-hypropullers-competitie/
LOCATION:Stal het Sander\, Sander 13\, Etten-Leur.\, Nederland
END:VEVENT
END:VCALENDAR