BEGIN:VCALENDAR
VERSION:2.0
PRODID:-//HyproPullers - ECPv6.15.11//NONSGML v1.0//EN
CALSCALE:GREGORIAN
METHOD:PUBLISH
X-WR-CALNAME:HyproPullers
X-ORIGINAL-URL:https://hypropullers.com
X-WR-CALDESC:Evenementen voor HyproPullers
REFRESH-INTERVAL;VALUE=DURATION:PT1H
X-Robots-Tag:noindex
X-PUBLISHED-TTL:PT1H
BEGIN:VTIMEZONE
TZID:Europe/Helsinki
BEGIN:DAYLIGHT
TZOFFSETFROM:+0200
TZOFFSETTO:+0300
TZNAME:EEST
DTSTART:20250330T010000
END:DAYLIGHT
BEGIN:STANDARD
TZOFFSETFROM:+0300
TZOFFSETTO:+0200
TZNAME:EET
DTSTART:20251026T010000
END:STANDARD
BEGIN:DAYLIGHT
TZOFFSETFROM:+0200
TZOFFSETTO:+0300
TZNAME:EEST
DTSTART:20260329T010000
END:DAYLIGHT
BEGIN:STANDARD
TZOFFSETFROM:+0300
TZOFFSETTO:+0200
TZNAME:EET
DTSTART:20261025T010000
END:STANDARD
BEGIN:DAYLIGHT
TZOFFSETFROM:+0200
TZOFFSETTO:+0300
TZNAME:EEST
DTSTART:20270328T010000
END:DAYLIGHT
BEGIN:STANDARD
TZOFFSETFROM:+0300
TZOFFSETTO:+0200
TZNAME:EET
DTSTART:20271031T010000
END:STANDARD
END:VTIMEZONE
BEGIN:VEVENT
DTSTART;TZID=Europe/Helsinki:20260913T130000
DTEND;TZID=Europe/Helsinki:20260913T180000
DTSTAMP:20260423T014426
CREATED:20260114T151514Z
LAST-MODIFIED:20260114T151514Z
UID:5841-1789304400-1789322400@hypropullers.com
SUMMARY:Trekkertrek Bavel
DESCRIPTION:
URL:https://hypropullers.com/event/trekkertrek-bavel/
LOCATION:Bavel\, Veenstraat\, Bavel\, 4854 PH\, Nederland
END:VEVENT
BEGIN:VEVENT
DTSTART;TZID=Europe/Helsinki:20260927T130000
DTEND;TZID=Europe/Helsinki:20260927T180000
DTSTAMP:20260423T014426
CREATED:20260114T151552Z
LAST-MODIFIED:20260114T151552Z
UID:5843-1790514000-1790532000@hypropullers.com
SUMMARY:Trekkertrek Zundert
DESCRIPTION:
URL:https://hypropullers.com/event/trekkertrek-zundert/
LOCATION:Zundert\, Stuivezandseweg 57\, Zundert\, Noord Brabant\, 4882 NG\, Nederland
END:VEVENT
END:VCALENDAR