BEGIN:VCALENDAR
VERSION:2.0
PRODID:-//HyproPullers - ECPv6.15.11//NONSGML v1.0//EN
CALSCALE:GREGORIAN
METHOD:PUBLISH
X-WR-CALNAME:HyproPullers
X-ORIGINAL-URL:https://hypropullers.com
X-WR-CALDESC:Evenementen voor HyproPullers
REFRESH-INTERVAL;VALUE=DURATION:PT1H
X-Robots-Tag:noindex
X-PUBLISHED-TTL:PT1H
BEGIN:VTIMEZONE
TZID:Europe/Helsinki
BEGIN:DAYLIGHT
TZOFFSETFROM:+0200
TZOFFSETTO:+0300
TZNAME:EEST
DTSTART:20210328T010000
END:DAYLIGHT
BEGIN:STANDARD
TZOFFSETFROM:+0300
TZOFFSETTO:+0200
TZNAME:EET
DTSTART:20211031T010000
END:STANDARD
BEGIN:DAYLIGHT
TZOFFSETFROM:+0200
TZOFFSETTO:+0300
TZNAME:EEST
DTSTART:20220327T010000
END:DAYLIGHT
BEGIN:STANDARD
TZOFFSETFROM:+0300
TZOFFSETTO:+0200
TZNAME:EET
DTSTART:20221030T010000
END:STANDARD
BEGIN:DAYLIGHT
TZOFFSETFROM:+0200
TZOFFSETTO:+0300
TZNAME:EEST
DTSTART:20230326T010000
END:DAYLIGHT
BEGIN:STANDARD
TZOFFSETFROM:+0300
TZOFFSETTO:+0200
TZNAME:EET
DTSTART:20231029T010000
END:STANDARD
BEGIN:DAYLIGHT
TZOFFSETFROM:+0200
TZOFFSETTO:+0300
TZNAME:EEST
DTSTART:20240331T010000
END:DAYLIGHT
BEGIN:STANDARD
TZOFFSETFROM:+0300
TZOFFSETTO:+0200
TZNAME:EET
DTSTART:20241027T010000
END:STANDARD
BEGIN:DAYLIGHT
TZOFFSETFROM:+0200
TZOFFSETTO:+0300
TZNAME:EEST
DTSTART:20250330T010000
END:DAYLIGHT
BEGIN:STANDARD
TZOFFSETFROM:+0300
TZOFFSETTO:+0200
TZNAME:EET
DTSTART:20251026T010000
END:STANDARD
END:VTIMEZONE
BEGIN:VEVENT
DTSTART;TZID=Europe/Helsinki:20240802T190000
DTEND;TZID=Europe/Helsinki:20240802T230000
DTSTAMP:20260423T014848
CREATED:20240226T142146Z
LAST-MODIFIED:20240226T143437Z
UID:1765-1722625200-1722639600@hypropullers.com
SUMMARY:Trekkertrek Krommerijnstreek
DESCRIPTION:
URL:https://hypropullers.com/event/trekkertrek-krommerijnstreek/
LOCATION:Werkhoven\, Oostromsdijkje\, Werkhoven\, Utrecht\, 3985LC\, Nederland
CATEGORIES:Hypropullers Competitie
END:VEVENT
BEGIN:VEVENT
DTSTART;TZID=Europe/Helsinki:20240721T130000
DTEND;TZID=Europe/Helsinki:20240721T170000
DTSTAMP:20260423T014848
CREATED:20240226T142023Z
LAST-MODIFIED:20240629T063711Z
UID:1762-1721566800-1721581200@hypropullers.com
SUMMARY:Trekker-Trek Merksplas
DESCRIPTION:
URL:https://hypropullers.com/event/trekker-trek-merksplas/
LOCATION:Merksplas\, Koekhoven\, Merksplas\, 2330
CATEGORIES:Hypropullers Competitie
END:VEVENT
BEGIN:VEVENT
DTSTART;TZID=Europe/Helsinki:20240706T133000
DTEND;TZID=Europe/Helsinki:20240706T173000
DTSTAMP:20260423T014848
CREATED:20240226T141914Z
LAST-MODIFIED:20240226T143608Z
UID:1759-1720272600-1720287000@hypropullers.com
SUMMARY:Pulling Cromvoirt
DESCRIPTION:
URL:https://hypropullers.com/event/pulling-cromvoirt/
LOCATION:Cromvoirt\, Deutersestraat 28\, Cromvoirt\, Noord-Braband\, 5266 AX\, Nederland
CATEGORIES:Hypropullers Competitie
END:VEVENT
BEGIN:VEVENT
DTSTART;TZID=Europe/Helsinki:20240628T180000
DTEND;TZID=Europe/Helsinki:20240628T220000
DTSTAMP:20260423T014848
CREATED:20240226T141737Z
LAST-MODIFIED:20240629T064631Z
UID:1755-1719597600-1719612000@hypropullers.com
SUMMARY:Tractorpulling Hoeven
DESCRIPTION:
URL:https://hypropullers.com/event/tractorpulling-hoeven/
LOCATION:Hoeven\, Oude Dijk\, Hoeven\, 4741 RX
CATEGORIES:Hypropullers Competitie
END:VEVENT
BEGIN:VEVENT
DTSTART;TZID=Europe/Helsinki:20240601T140000
DTEND;TZID=Europe/Helsinki:20240601T180000
DTSTAMP:20260423T014848
CREATED:20240226T095606Z
LAST-MODIFIED:20240530T185108Z
UID:1751-1717250400-1717264800@hypropullers.com
SUMMARY:Trekkertrekkie Moerkapelle
DESCRIPTION:
URL:https://hypropullers.com/event/trekkertrekkie-moerkapelle/
LOCATION:Moerkapelle\, Herenweg 58\, Moerkapelle\, 2751 DB\, Nederland
CATEGORIES:Hypropullers Competitie
ORGANIZER;CN="Trekkertrekkie Moerkapelle":MAILTO:info@trekkertrekkiemoerkapelle.nl
END:VEVENT
BEGIN:VEVENT
DTSTART;TZID=Europe/Helsinki:20240525T140000
DTEND;TZID=Europe/Helsinki:20240525T180000
DTSTAMP:20260423T014848
CREATED:20240226T095112Z
LAST-MODIFIED:20240429T175028Z
UID:1747-1716645600-1716660000@hypropullers.com
SUMMARY:Truck en Tractorpulling Velddriel
DESCRIPTION:
URL:https://hypropullers.com/event/truck-en-tractorpulling-velddriel/
LOCATION:velddriel\, Drielse Veldweg 15\, Velddriel\, 5334 NW\, Nederland
CATEGORIES:Hypropullers Competitie
END:VEVENT
BEGIN:VEVENT
DTSTART;TZID=Europe/Helsinki:20240504T160000
DTEND;TZID=Europe/Helsinki:20240504T200000
DTSTAMP:20260423T014848
CREATED:20240226T094819Z
LAST-MODIFIED:20240415T190506Z
UID:1742-1714838400-1714852800@hypropullers.com
SUMMARY:Pulling Oosteind
DESCRIPTION:
URL:https://hypropullers.com/event/pulling-oosteind/
LOCATION:Oosteind\, Berkenstraat 41\, Oosteind\, 4909 BG\, Nederland
CATEGORIES:Hypropullers Competitie
END:VEVENT
BEGIN:VEVENT
DTSTART;TZID=Europe/Helsinki:20240421T130000
DTEND;TZID=Europe/Helsinki:20240421T170000
DTSTAMP:20260423T014848
CREATED:20240226T094621Z
LAST-MODIFIED:20240419T120234Z
UID:1738-1713704400-1713718800@hypropullers.com
SUMMARY:Trekkertrek Achtmaal
DESCRIPTION:
URL:https://hypropullers.com/event/trekkertrek-achtmaal-2/
LOCATION:Achtmaal\, Achtmaalseweg 143\, Achtmaal\, 4885 AW\, Nederland
CATEGORIES:Hypropullers Competitie
ORGANIZER;CN="Achtmaalse Pullers":MAILTO:info@achtmaalsepullers.nl
END:VEVENT
BEGIN:VEVENT
DTSTART;TZID=Europe/Helsinki:20240414T140000
DTEND;TZID=Europe/Helsinki:20240414T180000
DTSTAMP:20260423T014848
CREATED:20240226T094252Z
LAST-MODIFIED:20240409T163628Z
UID:1733-1713103200-1713117600@hypropullers.com
SUMMARY:Trekkertrek Rucphen-Schijf
DESCRIPTION:
URL:https://hypropullers.com/event/trekkertrek-rucphen-schijf/
LOCATION:Rucphen-Schijf\, De Brand 4\, Rucphen\, 4715 PS\, Nederland
CATEGORIES:Hypropullers Competitie
END:VEVENT
BEGIN:VEVENT
DTSTART;TZID=Europe/Helsinki:20230924T110000
DTEND;TZID=Europe/Helsinki:20230924T180000
DTSTAMP:20260423T014848
CREATED:20230409T131210Z
LAST-MODIFIED:20230815T172537Z
UID:1513-1695553200-1695578400@hypropullers.com
SUMMARY:Powerpulling Zundert (competitie)
DESCRIPTION:
URL:https://hypropullers.com/event/powerpulling-zundert-competitie/
LOCATION:Zundert\, Stuivezandseweg 57\, Zundert\, Noord Brabant\, 4882 NG\, Nederland
END:VEVENT
BEGIN:VEVENT
DTSTART;TZID=Europe/Helsinki:20230902T100000
DTEND;TZID=Europe/Helsinki:20230902T180000
DTSTAMP:20260423T014848
CREATED:20230409T131014Z
LAST-MODIFIED:20230409T131014Z
UID:1511-1693648800-1693677600@hypropullers.com
SUMMARY:Pulling Streekdagen (competitie)
DESCRIPTION:
URL:https://hypropullers.com/event/pulling-streekdagen-competitie/
LOCATION:Meeuwen\, Dorpsstraat 2\, Meeuwen\, 4268 GJ\, Nederland
ORGANIZER;CN="Streekdagen Meeuwen":MAILTO:pulling@.streekdagen.nl
END:VEVENT
BEGIN:VEVENT
DTSTART;TZID=Europe/Helsinki:20230827T100000
DTEND;TZID=Europe/Helsinki:20230827T180000
DTSTAMP:20260423T014848
CREATED:20230409T130818Z
LAST-MODIFIED:20230409T130818Z
UID:1509-1693130400-1693159200@hypropullers.com
SUMMARY:Trekkertrek Ossendrecht (competitie)
DESCRIPTION:
URL:https://hypropullers.com/event/trekkertrek-ossendrecht-competitie/
LOCATION:Ossendrecht\, Hinkelenoordweg\, Ossendrecht\, Nederland
END:VEVENT
BEGIN:VEVENT
DTSTART;TZID=Europe/Helsinki:20230826T120000
DTEND;TZID=Europe/Helsinki:20230826T200000
DTSTAMP:20260423T014848
CREATED:20230409T130118Z
LAST-MODIFIED:20230815T172152Z
UID:1507-1693051200-1693080000@hypropullers.com
SUMMARY:Trekkertrek 's-Heer Abtskerke (competitie)
DESCRIPTION:
URL:https://hypropullers.com/event/trekkertrek-s-heer-abtskerke-competitie/
LOCATION:`s-Heer Abtskerke\, Kloetingseweg 13\, `s-Heer Abtskerke\, 4444 AC
END:VEVENT
BEGIN:VEVENT
DTSTART;TZID=Europe/Helsinki:20230820T130000
DTEND;TZID=Europe/Helsinki:20230820T180000
DTSTAMP:20260423T014848
CREATED:20230409T125844Z
LAST-MODIFIED:20230815T172048Z
UID:1505-1692536400-1692554400@hypropullers.com
SUMMARY:Trekkertrek KPJ Wouw (competitie)
DESCRIPTION:
URL:https://hypropullers.com/event/trekkertrek-kpj-wouw-competitie/
LOCATION:Wouw\, Westerlaarsestraat 61\, Wouwse Plantage\, 4725SC\, Nederland
END:VEVENT
BEGIN:VEVENT
DTSTART;TZID=Europe/Helsinki:20230812T140000
DTEND;TZID=Europe/Helsinki:20230812T220000
DTSTAMP:20260423T014848
CREATED:20230409T125517Z
LAST-MODIFIED:20230409T125517Z
UID:1503-1691848800-1691877600@hypropullers.com
SUMMARY:Tractorpulling Oudenbosch (competitie)
DESCRIPTION:
URL:https://hypropullers.com/event/tractorpulling-oudenbosch-competitie/
LOCATION:Oudenbosch\, Langeweg\, Oudenbosch\, 4731 TS
END:VEVENT
BEGIN:VEVENT
DTSTART;TZID=Europe/Helsinki:20230804T150000
DTEND;TZID=Europe/Helsinki:20230804T230000
DTSTAMP:20260423T014848
CREATED:20230409T124252Z
LAST-MODIFIED:20230409T124434Z
UID:1499-1691161200-1691190000@hypropullers.com
SUMMARY:Trekkertrek Krommerijnstreek (competitie)
DESCRIPTION:
URL:https://hypropullers.com/event/trekkertrek-krommerijnstreek-competitie/
LOCATION:Werkhoven\, Oostromsdijkje\, Werkhoven\, Utrecht\, 3985LC\, Nederland
END:VEVENT
BEGIN:VEVENT
DTSTART;TZID=Europe/Helsinki:20230716T083000
DTEND;TZID=Europe/Helsinki:20230716T170000
DTSTAMP:20260423T014848
CREATED:20230409T123402Z
LAST-MODIFIED:20230409T123402Z
UID:1497-1689496200-1689526800@hypropullers.com
SUMMARY:Trekkertrek Merksplas (B) (competitie)
DESCRIPTION:
URL:https://hypropullers.com/event/trekkertrek-merksplas-b-competitie/
LOCATION:Merksplas\, Koekhoven\, Merksplas\, 2330
END:VEVENT
BEGIN:VEVENT
DTSTART;TZID=Europe/Helsinki:20230708T090000
DTEND;TZID=Europe/Helsinki:20230708T210000
DTSTAMP:20260423T014848
CREATED:20230409T123216Z
LAST-MODIFIED:20230409T123216Z
UID:1495-1688806800-1688850000@hypropullers.com
SUMMARY:Pulling Cromvoirt (competitie)
DESCRIPTION:
URL:https://hypropullers.com/event/pulling-cromvoirt-competitie/
LOCATION:Cromvoirt\, Deutersestraat 28\, Cromvoirt\, Noord-Braband\, 5266 AX\, Nederland
END:VEVENT
BEGIN:VEVENT
DTSTART;TZID=Europe/Helsinki:20230624T120000
DTEND;TZID=Europe/Helsinki:20230624T220000
DTSTAMP:20260423T014848
CREATED:20230409T122918Z
LAST-MODIFIED:20230409T122918Z
UID:1493-1687608000-1687644000@hypropullers.com
SUMMARY:Tractorpulling Hoeven (competitie)
DESCRIPTION:
URL:https://hypropullers.com/event/tractorpulling-hoeven-competitie/
LOCATION:Hoeven\, Oude Dijk\, Hoeven\, 4741 RX
ORGANIZER;CN="Vereniging 't Smidje":MAILTO:tractorpullinghoeven@gmail.com
END:VEVENT
BEGIN:VEVENT
DTSTART;TZID=Europe/Helsinki:20230610T180000
DTEND;TZID=Europe/Helsinki:20230610T233000
DTSTAMP:20260423T014848
CREATED:20230409T122528Z
LAST-MODIFIED:20230413T165624Z
UID:1490-1686420000-1686439800@hypropullers.com
SUMMARY:Trekkertrek Minderhout (B) (competitie)
DESCRIPTION:
URL:https://hypropullers.com/event/trekkertrek-minderhout-b-competitie/
LOCATION:Minderhout (B)\, Raamloopstraat 11\, Minderhout (B)\, 2321\, België
END:VEVENT
BEGIN:VEVENT
DTSTART;TZID=Europe/Helsinki:20230603T090000
DTEND;TZID=Europe/Helsinki:20230603T170000
DTSTAMP:20260423T014848
CREATED:20230409T122021Z
LAST-MODIFIED:20230423T082554Z
UID:1488-1685782800-1685811600@hypropullers.com
SUMMARY:Trekkertrekkie Moerkapelle (competitie)
DESCRIPTION:
URL:https://hypropullers.com/event/trekkertrekkie-moerkapelle-competitie/
LOCATION:Moerkapelle\, Herenweg 58\, Moerkapelle\, 2751 DB\, Nederland
ORGANIZER;CN="Trekkertrekkie Moerkapelle":MAILTO:info@trekkertrekkiemoerkapelle.nl
END:VEVENT
BEGIN:VEVENT
DTSTART;TZID=Europe/Helsinki:20230527T110000
DTEND;TZID=Europe/Helsinki:20230527T170000
DTSTAMP:20260423T014848
CREATED:20230406T183241Z
LAST-MODIFIED:20230409T121154Z
UID:1478-1685185200-1685206800@hypropullers.com
SUMMARY:Trekkertrek Zuid-Beijerland (competitie)
DESCRIPTION:
URL:https://hypropullers.com/event/trekkertrek-zuid-beijerland-competiewedstrijd/
LOCATION:Zuid Beijerland\, Hogeweg 2\, Zuid Beijerland\, 3284KG\, Nederland
ORGANIZER;CN="Trekkertrek Zuid Beijerland":MAILTO:info@trekkertrekzuidbeijerland.nl
END:VEVENT
BEGIN:VEVENT
DTSTART;TZID=Europe/Helsinki:20230430T100000
DTEND;TZID=Europe/Helsinki:20230430T170000
DTSTAMP:20260423T014848
CREATED:20230406T182602Z
LAST-MODIFIED:20230407T120951Z
UID:1475-1682848800-1682874000@hypropullers.com
SUMMARY:Trekkertrek Achtmaal (competitie)
DESCRIPTION:
URL:https://hypropullers.com/event/trekkertrek-achtmaal/
LOCATION:Achtmaal\, Achtmaalseweg 143\, Achtmaal\, 4885 AW\, Nederland
ORGANIZER;CN="Achtmaalse Pullers":MAILTO:info@achtmaalsepullers.nl
END:VEVENT
BEGIN:VEVENT
DTSTART;TZID=Europe/Helsinki:20230305T150000
DTEND;TZID=Europe/Helsinki:20230305T170000
DTSTAMP:20260423T014848
CREATED:20230228T192912Z
LAST-MODIFIED:20230228T192912Z
UID:1429-1678028400-1678035600@hypropullers.com
SUMMARY:Inschrijfmiddag competitie 2023
DESCRIPTION:Op zondagmiddag 5 maart kan er ingeschreven worden voor competitie 2023. \nBen je verhinderd en wil je je toch inschrijven dan graag en je bent nieuw in de competitie dan graag een inschrijfformulier aanvragen via info@hypropullers.nl.
URL:https://hypropullers.com/event/inschrijfmiddag-competitie-2023/
LOCATION:Stal het Sander\, Sander 13\, Etten-Leur.\, Nederland
END:VEVENT
BEGIN:VEVENT
DTSTART;TZID=Europe/Helsinki:20230117T210000
DTEND;TZID=Europe/Helsinki:20230117T230000
DTSTAMP:20260423T014848
CREATED:20230228T192450Z
LAST-MODIFIED:20230228T192450Z
UID:1427-1673989200-1673996400@hypropullers.com
SUMMARY:Organisatoren vergadering 2023
DESCRIPTION:
URL:https://hypropullers.com/event/organisatoren-vergadering-2023/
LOCATION:Stal het Sander\, Sander 13\, Etten-Leur.\, Nederland
END:VEVENT
BEGIN:VEVENT
DTSTART;TZID=Europe/Helsinki:20220924T120000
DTEND;TZID=Europe/Helsinki:20220924T210000
DTSTAMP:20260423T014848
CREATED:20220423T175838Z
LAST-MODIFIED:20220423T175838Z
UID:1321-1664020800-1664053200@hypropullers.com
SUMMARY:Zundert 2022 dagwedstrijd
DESCRIPTION:
URL:https://hypropullers.com/event/zundert-2022-dagwedstrijd/
LOCATION:Zundert\, Stuivezandseweg 57\, Zundert\, Noord Brabant\, 4882 NG\, Nederland
CATEGORIES:Dagwedstrijd
END:VEVENT
BEGIN:VEVENT
DTSTART;VALUE=DATE:20220918
DTEND;VALUE=DATE:20220919
DTSTAMP:20260423T014848
CREATED:20220423T175407Z
LAST-MODIFIED:20220917T141125Z
UID:1315-1663459200-1663545599@hypropullers.com
SUMMARY:Bavel 2022 competiewedstrijd
DESCRIPTION:Kopie van startlijsten bavel(8015)Bavel 2022 zo
URL:https://hypropullers.com/event/bavel-2022-competiewedstrijd/
LOCATION:Bavel\, Veenstraat\, Bavel\, 4854 PH\, Nederland
CATEGORIES:Hypropullers Competitie
END:VEVENT
BEGIN:VEVENT
DTSTART;TZID=Europe/Helsinki:20220903T120000
DTEND;TZID=Europe/Helsinki:20220903T170000
DTSTAMP:20260423T014848
CREATED:20220423T175156Z
LAST-MODIFIED:20220903T054056Z
UID:1313-1662206400-1662224400@hypropullers.com
SUMMARY:Meeuwen 2022 competitiewedstrijd
DESCRIPTION:startlijsten meeuwenMeeuwen 2022
URL:https://hypropullers.com/event/meeuwen-2022-competitiewedstrijd/
LOCATION:Meeuwen\, Dorpsstraat 2\, Meeuwen\, 4268 GJ\, Nederland
CATEGORIES:Hypropullers Competitie
ORGANIZER;CN="Streekdagen Meeuwen":MAILTO:pulling@.streekdagen.nl
END:VEVENT
BEGIN:VEVENT
DTSTART;TZID=Europe/Helsinki:20220828T100000
DTEND;TZID=Europe/Helsinki:20220828T180000
DTSTAMP:20260423T014848
CREATED:20220423T174901Z
LAST-MODIFIED:20220423T175020Z
UID:1309-1661680800-1661709600@hypropullers.com
SUMMARY:Ossendrecht 2022 dagwedstrijd
DESCRIPTION:
URL:https://hypropullers.com/event/ossendrecht-2022-dagwedstrijd/
LOCATION:Ossendrecht\, Hinkelenoordweg\, Ossendrecht\, Nederland
CATEGORIES:Dagwedstrijd
END:VEVENT
BEGIN:VEVENT
DTSTART;TZID=Europe/Helsinki:20220827T120000
DTEND;TZID=Europe/Helsinki:20220827T180000
DTSTAMP:20260423T014848
CREATED:20220423T174722Z
LAST-MODIFIED:20220826T161056Z
UID:1307-1661601600-1661623200@hypropullers.com
SUMMARY:'s-Heer Abtskerke 2022 competitiewedstrijd
DESCRIPTION:startlijsten sheerabtskerkes Heer Abtstkerke 2022-2
URL:https://hypropullers.com/event/s-heer-abtskerke-2022-competitiewedstrijd/
LOCATION:`s-Heer Abtskerke\, Kloetingseweg 13\, `s-Heer Abtskerke\, 4444 AC
CATEGORIES:Hypropullers Competitie
END:VEVENT
END:VCALENDAR