BEGIN:VCALENDAR
VERSION:2.0
PRODID:-//HyproPullers - ECPv6.15.11//NONSGML v1.0//EN
CALSCALE:GREGORIAN
METHOD:PUBLISH
X-WR-CALNAME:HyproPullers
X-ORIGINAL-URL:https://hypropullers.com
X-WR-CALDESC:Evenementen voor HyproPullers
REFRESH-INTERVAL;VALUE=DURATION:PT1H
X-Robots-Tag:noindex
X-PUBLISHED-TTL:PT1H
BEGIN:VTIMEZONE
TZID:Europe/Helsinki
BEGIN:DAYLIGHT
TZOFFSETFROM:+0200
TZOFFSETTO:+0300
TZNAME:EEST
DTSTART:20230326T010000
END:DAYLIGHT
BEGIN:STANDARD
TZOFFSETFROM:+0300
TZOFFSETTO:+0200
TZNAME:EET
DTSTART:20231029T010000
END:STANDARD
BEGIN:DAYLIGHT
TZOFFSETFROM:+0200
TZOFFSETTO:+0300
TZNAME:EEST
DTSTART:20240331T010000
END:DAYLIGHT
BEGIN:STANDARD
TZOFFSETFROM:+0300
TZOFFSETTO:+0200
TZNAME:EET
DTSTART:20241027T010000
END:STANDARD
BEGIN:DAYLIGHT
TZOFFSETFROM:+0200
TZOFFSETTO:+0300
TZNAME:EEST
DTSTART:20250330T010000
END:DAYLIGHT
BEGIN:STANDARD
TZOFFSETFROM:+0300
TZOFFSETTO:+0200
TZNAME:EET
DTSTART:20251026T010000
END:STANDARD
BEGIN:DAYLIGHT
TZOFFSETFROM:+0200
TZOFFSETTO:+0300
TZNAME:EEST
DTSTART:20260329T010000
END:DAYLIGHT
BEGIN:STANDARD
TZOFFSETFROM:+0300
TZOFFSETTO:+0200
TZNAME:EET
DTSTART:20261025T010000
END:STANDARD
BEGIN:DAYLIGHT
TZOFFSETFROM:+0200
TZOFFSETTO:+0300
TZNAME:EEST
DTSTART:20270328T010000
END:DAYLIGHT
BEGIN:STANDARD
TZOFFSETFROM:+0300
TZOFFSETTO:+0200
TZNAME:EET
DTSTART:20271031T010000
END:STANDARD
END:VTIMEZONE
BEGIN:VEVENT
DTSTART;TZID=Europe/Helsinki:20260419T130000
DTEND;TZID=Europe/Helsinki:20260419T170000
DTSTAMP:20260422T045710
CREATED:20260114T150138Z
LAST-MODIFIED:20260114T150151Z
UID:5818-1776603600-1776618000@hypropullers.com
SUMMARY:Trekkertrek Achtmaal
DESCRIPTION:
URL:https://hypropullers.com/event/trekkertrek-achtmaal-4/
LOCATION:Achtmaal\, Achtmaalseweg 143\, Achtmaal\, 4885 AW\, Nederland
CATEGORIES:Hypropullers Competitie
ORGANIZER;CN="Achtmaalse Pullers":MAILTO:info@achtmaalsepullers.nl
END:VEVENT
BEGIN:VEVENT
DTSTART;TZID=Europe/Helsinki:20251018T200000
DTEND;TZID=Europe/Helsinki:20251019T020000
DTSTAMP:20260422T045710
CREATED:20250923T182739Z
LAST-MODIFIED:20250930T130807Z
UID:5361-1760817600-1760839200@hypropullers.com
SUMMARY:Feestavond/ prijsuitreiking competitie 2025
DESCRIPTION:
URL:https://hypropullers.com/event/feestavond-prijsuitreiking-competitie-2025/
LOCATION:Cafe Buitenlust\, Huisakkerstraat 2 Rijsbergen\, Huisakkerstraat 2\, Rijsbergen\, Noord Brabant\, 4891 ZM
ORGANIZER;CN="Hypropullers":MAILTO:info@hypropullers.nl
END:VEVENT
BEGIN:VEVENT
DTSTART;TZID=Europe/Helsinki:20251009T200000
DTEND;TZID=Europe/Helsinki:20251009T223000
DTSTAMP:20260422T045710
CREATED:20250923T183427Z
LAST-MODIFIED:20250923T183427Z
UID:5364-1760040000-1760049000@hypropullers.com
SUMMARY:Najaarsvergadering/ evaluatie 2025
DESCRIPTION:
URL:https://hypropullers.com/event/najaarsvergadering-evaluatie-2025/
LOCATION:Stal het Sander\, Sander 13\, Etten-Leur.\, Nederland
END:VEVENT
BEGIN:VEVENT
DTSTART;TZID=Europe/Helsinki:20251007T200000
DTEND;TZID=Europe/Helsinki:20251007T213000
DTSTAMP:20260422T045710
CREATED:20250923T190848Z
LAST-MODIFIED:20250923T190848Z
UID:5369-1759867200-1759872600@hypropullers.com
SUMMARY:Evaluatievergadering functionarissen
DESCRIPTION:
URL:https://hypropullers.com/event/evaluatievergadering-functionarissen/
LOCATION:Noord Brabant
END:VEVENT
BEGIN:VEVENT
DTSTART;TZID=Europe/Helsinki:20250928T140000
DTEND;TZID=Europe/Helsinki:20250928T180000
DTSTAMP:20260422T045710
CREATED:20250120T182103Z
LAST-MODIFIED:20250414T164626Z
UID:3427-1759068000-1759082400@hypropullers.com
SUMMARY:Powerpulling Zundert
DESCRIPTION:
URL:https://hypropullers.com/event/powerpulling-zundert-2/
LOCATION:Zundert\, Stuivezandseweg 57\, Zundert\, Noord Brabant\, 4882 NG\, Nederland
CATEGORIES:Hypropullers Competitie
END:VEVENT
BEGIN:VEVENT
DTSTART;TZID=Europe/Helsinki:20250921T140000
DTEND;TZID=Europe/Helsinki:20250921T180000
DTSTAMP:20260422T045710
CREATED:20250120T181959Z
LAST-MODIFIED:20250120T181959Z
UID:3425-1758463200-1758477600@hypropullers.com
SUMMARY:KPJ Bavel
DESCRIPTION:
URL:https://hypropullers.com/event/kpj-bavel-2/
LOCATION:Bavel\, Veenstraat\, Bavel\, 4854 PH\, Nederland
CATEGORIES:Hypropullers Competitie
END:VEVENT
BEGIN:VEVENT
DTSTART;TZID=Europe/Helsinki:20250906T120000
DTEND;TZID=Europe/Helsinki:20250906T180000
DTSTAMP:20260422T045710
CREATED:20250120T181902Z
LAST-MODIFIED:20250120T181902Z
UID:3423-1757160000-1757181600@hypropullers.com
SUMMARY:SLF  Streekdagen Meeuwen
DESCRIPTION:
URL:https://hypropullers.com/event/slf-streekdagen-meeuwen/
LOCATION:Meeuwen\, Dorpsstraat 2\, Meeuwen\, 4268 GJ\, Nederland
CATEGORIES:Hypropullers Competitie
END:VEVENT
BEGIN:VEVENT
DTSTART;TZID=Europe/Helsinki:20250830T140000
DTEND;TZID=Europe/Helsinki:20250830T180000
DTSTAMP:20260422T045710
CREATED:20250120T181757Z
LAST-MODIFIED:20250120T181757Z
UID:3421-1756562400-1756576800@hypropullers.com
SUMMARY:Trekkertrek 's - Heer Abtskerke
DESCRIPTION:
URL:https://hypropullers.com/event/trekkertrek-s-heer-abtskerke-2/
LOCATION:`s-Heer Abtskerke\, Kloetingseweg 13\, `s-Heer Abtskerke\, 4444 AC
CATEGORIES:Hypropullers Competitie
END:VEVENT
BEGIN:VEVENT
DTSTART;TZID=Europe/Helsinki:20250817T140000
DTEND;TZID=Europe/Helsinki:20250817T180000
DTSTAMP:20260422T045710
CREATED:20250120T181657Z
LAST-MODIFIED:20250810T120831Z
UID:3419-1755439200-1755453600@hypropullers.com
SUMMARY:KPJ Wouw
DESCRIPTION:
URL:https://hypropullers.com/event/kpj-wouw-2/
LOCATION:Wouwse Plantage\, Westelaarsestraat 61\, Wouwse Plantage\, 4725 SC
CATEGORIES:Hypropullers Competitie
END:VEVENT
BEGIN:VEVENT
DTSTART;TZID=Europe/Helsinki:20250809T140000
DTEND;TZID=Europe/Helsinki:20250809T180000
DTSTAMP:20260422T045710
CREATED:20250120T181604Z
LAST-MODIFIED:20250414T164311Z
UID:3417-1754748000-1754762400@hypropullers.com
SUMMARY:Tractorpulling Oudenbosch
DESCRIPTION:
URL:https://hypropullers.com/event/tractorpulling-oudenbosch/
LOCATION:Oudenbosch\, Langeweg\, Oudenbosch\, 4731 TS
CATEGORIES:Hypropullers Competitie
END:VEVENT
BEGIN:VEVENT
DTSTART;TZID=Europe/Helsinki:20250801T180000
DTEND;TZID=Europe/Helsinki:20250801T220000
DTSTAMP:20260422T045710
CREATED:20250120T181455Z
LAST-MODIFIED:20250605T163315Z
UID:3415-1754071200-1754085600@hypropullers.com
SUMMARY:Trekkertrek Krommerijnstreek
DESCRIPTION:
URL:https://hypropullers.com/event/trekkertrek-krommerijnstreek-2/
LOCATION:Werkhoven\, Oostromsdijkje\, Werkhoven\, Utrecht\, 3985LC\, Nederland
CATEGORIES:Hypropullers Competitie
END:VEVENT
BEGIN:VEVENT
DTSTART;TZID=Europe/Helsinki:20250720T130000
DTEND;TZID=Europe/Helsinki:20250720T170000
DTSTAMP:20260422T045710
CREATED:20250120T181410Z
LAST-MODIFIED:20250624T114736Z
UID:3413-1753016400-1753030800@hypropullers.com
SUMMARY:Trekkertrek Merksplas
DESCRIPTION:
URL:https://hypropullers.com/event/trekkertrek-merksplas/
LOCATION:Merksplas\, Koekhoven\, Merksplas\, 2330
CATEGORIES:Hypropullers Competitie
END:VEVENT
BEGIN:VEVENT
DTSTART;TZID=Europe/Helsinki:20250712T140000
DTEND;TZID=Europe/Helsinki:20250712T180000
DTSTAMP:20260422T045710
CREATED:20250120T181314Z
LAST-MODIFIED:20250120T181314Z
UID:3411-1752328800-1752343200@hypropullers.com
SUMMARY:Pulling Cromvoirt
DESCRIPTION:
URL:https://hypropullers.com/event/pulling-cromvoirt-2/
LOCATION:Cromvoirt\, Deutersestraat 28\, Cromvoirt\, Noord-Braband\, 5266 AX\, Nederland
CATEGORIES:Hypropullers Competitie
END:VEVENT
BEGIN:VEVENT
DTSTART;TZID=Europe/Helsinki:20250705T130000
DTEND;TZID=Europe/Helsinki:20250705T170000
DTSTAMP:20260422T045710
CREATED:20250120T181224Z
LAST-MODIFIED:20250120T181224Z
UID:3408-1751720400-1751734800@hypropullers.com
SUMMARY:Trekkertrek Rijsbergen
DESCRIPTION:
URL:https://hypropullers.com/event/trekkertrek-rijsbergen/
LOCATION:Tiggeltsebergstraat\, Rijsbegen\, Tiggeltsebergstraat\, Rijsbergen
CATEGORIES:Hypropullers Competitie
END:VEVENT
BEGIN:VEVENT
DTSTART;TZID=Europe/Helsinki:20250607T140000
DTEND;TZID=Europe/Helsinki:20250607T180000
DTSTAMP:20260422T045710
CREATED:20250120T181001Z
LAST-MODIFIED:20250429T201205Z
UID:3406-1749304800-1749319200@hypropullers.com
SUMMARY:Trekkertrekkie Moerkapelle
DESCRIPTION:
URL:https://hypropullers.com/event/trekkertrekkie-moerkapelle-2/
LOCATION:Moerkapelle\, Herenweg 58\, Moerkapelle\, 2751 DB\, Nederland
CATEGORIES:Hypropullers Competitie
END:VEVENT
BEGIN:VEVENT
DTSTART;TZID=Europe/Helsinki:20250524T130000
DTEND;TZID=Europe/Helsinki:20250524T170000
DTSTAMP:20260422T045710
CREATED:20250120T180843Z
LAST-MODIFIED:20250414T164450Z
UID:3404-1748091600-1748106000@hypropullers.com
SUMMARY:Truck en Tractorpulling Velddriel
DESCRIPTION:
URL:https://hypropullers.com/event/truck-en-tractorpulling-velddriel-2/
LOCATION:velddriel\, Drielse Veldweg 15\, Velddriel\, 5334 NW\, Nederland
CATEGORIES:Hypropullers Competitie
END:VEVENT
BEGIN:VEVENT
DTSTART;TZID=Europe/Helsinki:20250510T130000
DTEND;TZID=Europe/Helsinki:20250510T170000
DTSTAMP:20260422T045710
CREATED:20250120T180534Z
LAST-MODIFIED:20250120T180548Z
UID:3402-1746882000-1746896400@hypropullers.com
SUMMARY:Pulling Oosteind
DESCRIPTION:
URL:https://hypropullers.com/event/pulling-oosteind-2/
LOCATION:Oosteind\, Berkenstraat 41\, Oosteind\, 4909 BG\, Nederland
CATEGORIES:Hypropullers Competitie
END:VEVENT
BEGIN:VEVENT
DTSTART;TZID=Europe/Helsinki:20250420T130000
DTEND;TZID=Europe/Helsinki:20250420T170000
DTSTAMP:20260422T045710
CREATED:20250120T180434Z
LAST-MODIFIED:20250405T111406Z
UID:3400-1745154000-1745168400@hypropullers.com
SUMMARY:Trekkertrek Achtmaal
DESCRIPTION:
URL:https://hypropullers.com/event/trekkertrek-achtmaal-3/
LOCATION:Achtmaal\, Achtmaalseweg 143\, Achtmaal\, 4885 AW\, Nederland
CATEGORIES:Hypropullers Competitie
END:VEVENT
BEGIN:VEVENT
DTSTART;TZID=Europe/Helsinki:20250307T200000
DTEND;TZID=Europe/Helsinki:20250307T213000
DTSTAMP:20260422T045710
CREATED:20250118T113243Z
LAST-MODIFIED:20250120T182356Z
UID:3387-1741377600-1741383000@hypropullers.com
SUMMARY:Voorjaarsvergadering
DESCRIPTION:
URL:https://hypropullers.com/event/voorjaarsvergadering/
LOCATION:Stal het Sander\, Sander 13\, Etten-Leur.\, Nederland
CATEGORIES:Vergadering
END:VEVENT
BEGIN:VEVENT
DTSTART;TZID=Europe/Helsinki:20241019T200000
DTEND;TZID=Europe/Helsinki:20241019T233000
DTSTAMP:20260422T045710
CREATED:20240822T200701Z
LAST-MODIFIED:20240902T202507Z
UID:2739-1729368000-1729380600@hypropullers.com
SUMMARY:Feestavond Hypropullers
DESCRIPTION: 
URL:https://hypropullers.com/event/feestavond-hypropullers/
LOCATION:Cafe Buitenlust\, Huisakkerstraat 2 Rijsbergen\, Huisakkerstraat 2\, Rijsbergen\, Noord Brabant\, 4891 ZM
END:VEVENT
BEGIN:VEVENT
DTSTART;TZID=Europe/Helsinki:20240922T143000
DTEND;TZID=Europe/Helsinki:20240922T183000
DTSTAMP:20260422T045710
CREATED:20240226T143032Z
LAST-MODIFIED:20240629T063750Z
UID:1787-1727015400-1727029800@hypropullers.com
SUMMARY:Powerpulling Zundert
DESCRIPTION:
URL:https://hypropullers.com/event/powerpulling-zundert/
LOCATION:Zundert\, Stuivezandseweg 57\, Zundert\, Noord Brabant\, 4882 NG\, Nederland
CATEGORIES:Hypropullers Competitie
END:VEVENT
BEGIN:VEVENT
DTSTART;TZID=Europe/Helsinki:20240908T143000
DTEND;TZID=Europe/Helsinki:20240908T183000
DTSTAMP:20260422T045710
CREATED:20240226T142927Z
LAST-MODIFIED:20240226T142938Z
UID:1783-1725805800-1725820200@hypropullers.com
SUMMARY:KPJ Bavel
DESCRIPTION:
URL:https://hypropullers.com/event/kpj-bavel/
LOCATION:Bavel\, Veenstraat\, Bavel\, 4854 PH\, Nederland
CATEGORIES:Hypropullers Competitie
END:VEVENT
BEGIN:VEVENT
DTSTART;TZID=Europe/Helsinki:20240907T120000
DTEND;TZID=Europe/Helsinki:20240907T160000
DTSTAMP:20260422T045710
CREATED:20240226T142809Z
LAST-MODIFIED:20240226T142809Z
UID:1778-1725710400-1725724800@hypropullers.com
SUMMARY:Streekdagen Meeuwen
DESCRIPTION:
URL:https://hypropullers.com/event/streekdagen-meeuwen/
LOCATION:Meeuwen\, Dorpsstraat 2\, Meeuwen\, 4268 GJ\, Nederland
CATEGORIES:Hypropullers Competitie
END:VEVENT
BEGIN:VEVENT
DTSTART;TZID=Europe/Helsinki:20240831T080000
DTEND;TZID=Europe/Helsinki:20240831T170000
DTSTAMP:20260422T045710
CREATED:20240226T142656Z
LAST-MODIFIED:20240226T142656Z
UID:1774-1725091200-1725123600@hypropullers.com
SUMMARY:TrekkerTrek 's-Heer Abtskerke
DESCRIPTION:
URL:https://hypropullers.com/event/trekkertrek-s-heer-abtskerke/
LOCATION:`s-Heer Abtskerke\, Kloetingseweg 13\, `s-Heer Abtskerke\, 4444 AC
CATEGORIES:Hypropullers Competitie
END:VEVENT
BEGIN:VEVENT
DTSTART;TZID=Europe/Helsinki:20240818T140000
DTEND;TZID=Europe/Helsinki:20240818T180000
DTSTAMP:20260422T045710
CREATED:20240226T142507Z
LAST-MODIFIED:20240629T063923Z
UID:1770-1723989600-1724004000@hypropullers.com
SUMMARY:KPJ Wouw
DESCRIPTION:
URL:https://hypropullers.com/event/kpj-wouw/
LOCATION:Wouwse Plantage\, Westelaarsestraat 61\, Wouwse Plantage\, 4725 SC
CATEGORIES:Hypropullers Competitie
END:VEVENT
BEGIN:VEVENT
DTSTART;TZID=Europe/Helsinki:20240802T190000
DTEND;TZID=Europe/Helsinki:20240802T230000
DTSTAMP:20260422T045710
CREATED:20240226T142146Z
LAST-MODIFIED:20240226T143437Z
UID:1765-1722625200-1722639600@hypropullers.com
SUMMARY:Trekkertrek Krommerijnstreek
DESCRIPTION:
URL:https://hypropullers.com/event/trekkertrek-krommerijnstreek/
LOCATION:Werkhoven\, Oostromsdijkje\, Werkhoven\, Utrecht\, 3985LC\, Nederland
CATEGORIES:Hypropullers Competitie
END:VEVENT
BEGIN:VEVENT
DTSTART;TZID=Europe/Helsinki:20240721T130000
DTEND;TZID=Europe/Helsinki:20240721T170000
DTSTAMP:20260422T045710
CREATED:20240226T142023Z
LAST-MODIFIED:20240629T063711Z
UID:1762-1721566800-1721581200@hypropullers.com
SUMMARY:Trekker-Trek Merksplas
DESCRIPTION:
URL:https://hypropullers.com/event/trekker-trek-merksplas/
LOCATION:Merksplas\, Koekhoven\, Merksplas\, 2330
CATEGORIES:Hypropullers Competitie
END:VEVENT
BEGIN:VEVENT
DTSTART;TZID=Europe/Helsinki:20240706T133000
DTEND;TZID=Europe/Helsinki:20240706T173000
DTSTAMP:20260422T045710
CREATED:20240226T141914Z
LAST-MODIFIED:20240226T143608Z
UID:1759-1720272600-1720287000@hypropullers.com
SUMMARY:Pulling Cromvoirt
DESCRIPTION:
URL:https://hypropullers.com/event/pulling-cromvoirt/
LOCATION:Cromvoirt\, Deutersestraat 28\, Cromvoirt\, Noord-Braband\, 5266 AX\, Nederland
CATEGORIES:Hypropullers Competitie
END:VEVENT
BEGIN:VEVENT
DTSTART;TZID=Europe/Helsinki:20240628T180000
DTEND;TZID=Europe/Helsinki:20240628T220000
DTSTAMP:20260422T045710
CREATED:20240226T141737Z
LAST-MODIFIED:20240629T064631Z
UID:1755-1719597600-1719612000@hypropullers.com
SUMMARY:Tractorpulling Hoeven
DESCRIPTION:
URL:https://hypropullers.com/event/tractorpulling-hoeven/
LOCATION:Hoeven\, Oude Dijk\, Hoeven\, 4741 RX
CATEGORIES:Hypropullers Competitie
END:VEVENT
BEGIN:VEVENT
DTSTART;TZID=Europe/Helsinki:20240601T140000
DTEND;TZID=Europe/Helsinki:20240601T180000
DTSTAMP:20260422T045710
CREATED:20240226T095606Z
LAST-MODIFIED:20240530T185108Z
UID:1751-1717250400-1717264800@hypropullers.com
SUMMARY:Trekkertrekkie Moerkapelle
DESCRIPTION:
URL:https://hypropullers.com/event/trekkertrekkie-moerkapelle/
LOCATION:Moerkapelle\, Herenweg 58\, Moerkapelle\, 2751 DB\, Nederland
CATEGORIES:Hypropullers Competitie
ORGANIZER;CN="Trekkertrekkie Moerkapelle":MAILTO:info@trekkertrekkiemoerkapelle.nl
END:VEVENT
END:VCALENDAR