BEGIN:VCALENDAR
VERSION:2.0
PRODID:-//HyproPullers - ECPv6.15.11//NONSGML v1.0//EN
CALSCALE:GREGORIAN
METHOD:PUBLISH
X-WR-CALNAME:HyproPullers
X-ORIGINAL-URL:https://hypropullers.com
X-WR-CALDESC:Evenementen voor HyproPullers
REFRESH-INTERVAL;VALUE=DURATION:PT1H
X-Robots-Tag:noindex
X-PUBLISHED-TTL:PT1H
BEGIN:VTIMEZONE
TZID:Europe/Helsinki
BEGIN:DAYLIGHT
TZOFFSETFROM:+0200
TZOFFSETTO:+0300
TZNAME:EEST
DTSTART:20250330T010000
END:DAYLIGHT
BEGIN:STANDARD
TZOFFSETFROM:+0300
TZOFFSETTO:+0200
TZNAME:EET
DTSTART:20251026T010000
END:STANDARD
BEGIN:DAYLIGHT
TZOFFSETFROM:+0200
TZOFFSETTO:+0300
TZNAME:EEST
DTSTART:20260329T010000
END:DAYLIGHT
BEGIN:STANDARD
TZOFFSETFROM:+0300
TZOFFSETTO:+0200
TZNAME:EET
DTSTART:20261025T010000
END:STANDARD
BEGIN:DAYLIGHT
TZOFFSETFROM:+0200
TZOFFSETTO:+0300
TZNAME:EEST
DTSTART:20270328T010000
END:DAYLIGHT
BEGIN:STANDARD
TZOFFSETFROM:+0300
TZOFFSETTO:+0200
TZNAME:EET
DTSTART:20271031T010000
END:STANDARD
END:VTIMEZONE
BEGIN:VEVENT
DTSTART;TZID=Europe/Helsinki:20260419T130000
DTEND;TZID=Europe/Helsinki:20260419T170000
DTSTAMP:20260421T214435
CREATED:20260114T150138Z
LAST-MODIFIED:20260114T150151Z
UID:5818-1776603600-1776618000@hypropullers.com
SUMMARY:Trekkertrek Achtmaal
DESCRIPTION:
URL:https://hypropullers.com/event/trekkertrek-achtmaal-4/
LOCATION:Achtmaal\, Achtmaalseweg 143\, Achtmaal\, 4885 AW\, Nederland
CATEGORIES:Hypropullers Competitie
ORGANIZER;CN="Achtmaalse Pullers":MAILTO:info@achtmaalsepullers.nl
END:VEVENT
END:VCALENDAR